BEGIN:VCALENDAR
VERSION:2.0
PRODID:-//ChamberMaster//Event Calendar 2.0//EN
METHOD:PUBLISH
X-PUBLISHED-TTL:P3D
REFRESH-INTERVAL:P3D
CALSCALE:GREGORIAN
BEGIN:VEVENT
DTSTART:20120403T223000Z
DTEND:20120404T022500Z
X-MICROSOFT-CDO-ALLDAYEVENT:FALSE
SUMMARY:Photoshop for Digital Photography
DESCRIPTION:203-604   Photoshop for the Digital Photographer    4/3/2012\n\n	4 Hrs. - $23.50              (62 & over $18.63)\n\n	Provides skills in using Photoshop to manipulate digital images/pictures to make them their best. Levels\, color balance\, sharpening\, special effects and more are explored. Students produce a set of adjusted photos and apply what is learned.\n\n	 \n\n	30476        HRT        T    05:30P-09:25P          DeBack                                              \n\n	 04/03/2012
X-ALT-DESC;FMTTYPE=text/html:<p class="MsoPlainText" style="margin: 0in 0in 0pt\; tab-stops: .75in 117.0pt 166.5pt 274.5pt 369.0pt right 535.5pt">\n	<span style="font-family: 'arial'\, 'sans-serif'\; font-size: 12pt"><font color="#000000">203-604<span style="mso-tab-count: 1">&nbsp\;&nbsp\; </span>Photoshop for the Digital Photographer&nbsp\;&nbsp\;&nbsp\; 4/3/2012</font></span></p>\n<p class="MsoPlainText" style="margin: 0in 0in 0pt\; tab-stops: .75in 117.0pt 166.5pt 274.5pt 369.0pt right 535.5pt">\n	<span style="font-family: 'arial'\, 'sans-serif'\; font-size: 12pt"><font color="#000000">4 Hrs. - $23.50<span style="mso-tab-count: 1">&nbsp\;&nbsp\;&nbsp\;&nbsp\;&nbsp\;&nbsp\;&nbsp\;&nbsp\;&nbsp\;&nbsp\;&nbsp\;&nbsp\;&nbsp\; </span>(62 &amp\; over $18.63)</font></span></p>\n<p class="MsoPlainText" style="margin: 0in 0in 0pt\; tab-stops: .75in 117.0pt 166.5pt 274.5pt 369.0pt right 535.5pt">\n	<span style="font-family: 'arial'\, 'sans-serif'\; font-size: 12pt"><font color="#000000">Provides skills in using Photoshop to manipulate digital images/pictures to make them their best. Levels\, color balance\, sharpening\, special effects and more are explored. Students produce a set of adjusted photos and apply what is learned.</font></span><br />\n	&nbsp\;</p>\n<p class="MsoPlainText" style="margin: 0in 0in 0pt\; tab-stops: .75in 117.0pt 166.5pt 274.5pt 369.0pt right 535.5pt">\n	<span style="font-family: 'arial'\, 'sans-serif'\; font-size: 12pt"><font color="#000000">30476<span style="mso-tab-count: 1">&nbsp\;&nbsp\;&nbsp\;&nbsp\;&nbsp\;&nbsp\;&nbsp\; </span>HRT<span style="mso-tab-count: 1">&nbsp\;&nbsp\;&nbsp\;&nbsp\;&nbsp\; &nbsp\;&nbsp\;</span>T<span style="mso-tab-count: 1">&nbsp\;&nbsp\;&nbsp\;&nbsp\;</span>05:30P-09:25P<span style="mso-tab-count: 1">&nbsp\;&nbsp\;&nbsp\;&nbsp\;&nbsp\;&nbsp\;&nbsp\;&nbsp\;&nbsp\; </span>DeBack<span style="mso-tab-count: 2">&nbsp\;&nbsp\;&nbsp\;&nbsp\;&nbsp\;&nbsp\;&nbsp\;&nbsp\;&nbsp\;&nbsp\;&nbsp\;&nbsp\;&nbsp\;&nbsp\;&nbsp\;&nbsp\;&nbsp\;&nbsp\;&nbsp\;&nbsp\;&nbsp\;&nbsp\;&nbsp\;&nbsp\;&nbsp\;&nbsp\;&nbsp\;&nbsp\;&nbsp\;&nbsp\;&nbsp\;&nbsp\;&nbsp\;&nbsp\;&nbsp\;&nbsp\;&nbsp\;&nbsp\;&nbsp\;&nbsp\;&nbsp\;&nbsp\;&nbsp\;&nbsp\;&nbsp\;&nbsp\;<br />\n	&nbsp\;</span>04/03/2012</font></span></p>\n
LOCATION:MPTC Hartford Regional Center 805 Cedar Street Hartford\, WI 53027
UID:e.898.1132
SEQUENCE:3
DTSTAMP:20260423T021141Z
URL:https://business.hartfordareachamber.org/events/details/photoshop-for-digital-photography-04-03-2012-1132
END:VEVENT

END:VCALENDAR
