BEGIN:VCALENDAR
VERSION:2.0
PRODID:-//ChamberMaster//Event Calendar 2.0//EN
METHOD:PUBLISH
X-PUBLISHED-TTL:P3D
REFRESH-INTERVAL:P3D
CALSCALE:GREGORIAN
BEGIN:VEVENT
DTSTART:20131107T003000Z
DTEND:20131107T023000Z
X-MICROSOFT-CDO-ALLDAYEVENT:FALSE
SUMMARY:Pickle Beyond the Cucumber with Annie Wegner LeFort
DESCRIPTION:Can you pickle grapes? What about carrots\, onions\, and green beans? Annie Wegner LeFort will answer your questions as she leads a pickling demonstration with audience participation at the Old Courthouse Museum. Enjoy tasting a variety of pickled foods and take home a jar with a recipe and spices to try pickling at home.\n\n	Annie Wegner LeFort has a long history of growing\, cooking\, and sharing food. More recently\, in 2003\, she helped found Slow Food Wisconsin Southeast\, began exploring urban farming\, and teaching food preservation classes\, vegetarian cooking demos\, and other nutrition-based cooking classes in various venues around the metro-Milwaukee area. Find out more about Annie at leforthomestead.blogspot.com.\n\n	For age 14 and older. Program fee is $7 for Washington County Historical Society members. $10 for non-members. Program fee is due in full by October 30\, 2013 to secure your registration. Due to the nature of this program\, we are unable to issue refunds after October 30\, 2013. Thank for you understanding. Contact Jessica (262) 335-4678.
X-ALT-DESC;FMTTYPE=text/html:<p>\n	Can you pickle grapes? What about carrots\, onions\, and green beans? Annie Wegner LeFort will answer your questions as she leads a pickling demonstration with audience participation at the Old Courthouse Museum. Enjoy tasting a variety of pickled foods and take home a jar with a recipe and spices to try pickling at home.</p>\n<p>\n	Annie Wegner LeFort has a long history of growing\, cooking\, and sharing food. More recently\, in 2003\, she helped found Slow Food Wisconsin Southeast\, began exploring urban farming\, and teaching food preservation classes\, vegetarian cooking demos\, and other nutrition-based cooking classes in various venues around the metro-Milwaukee area. Find out more about Annie at leforthomestead.blogspot.com.</p>\n<p>\n	For age 14 and older. Program fee is $7 for Washington County Historical Society members. $10 for non-members. Program fee is due in full by October 30\, 2013 to secure your registration. Due to the nature of this program\, we are unable to issue refunds after October 30\, 2013. Thank for you understanding. Contact Jessica (262) 335-4678.</p>\n
LOCATION:Old Courthouse Museum 320 S 5th Ave\, West Bend
UID:e.898.2595
SEQUENCE:3
DTSTAMP:20260421T184612Z
URL:https://business.hartfordareachamber.org/events/details/pickle-beyond-the-cucumber-with-annie-wegner-lefort-11-06-2013-2595
END:VEVENT

END:VCALENDAR
