BEGIN:VCALENDAR
VERSION:2.0
PRODID:-//ChamberMaster//Event Calendar 2.0//EN
METHOD:PUBLISH
X-PUBLISHED-TTL:P3D
REFRESH-INTERVAL:P3D
CALSCALE:GREGORIAN
BEGIN:VEVENT
DTSTART:20130601T130000Z
DTEND:20130601T170000Z
X-MICROSOFT-CDO-ALLDAYEVENT:FALSE
SUMMARY:Pike Lake Discovery Day
DESCRIPTION:PIKE LAKE DISCOVERY DAY\n\n	\n\n	Explore what you might have missed at the Pike Lake Unit of Kettle Moraine State Forest. Enjoy nature-print shirt painting (bring a T-shirt!)\, Smokey Bear (bring a camera!)\, a nature-themed scavenger hunt\, the astronomy trail\, solar scope sun viewing\, an 8:00 am guided bird hike\, 9:30 & 10:30 kayak demonstrations and an 11:00 fishing activity. Other activities are on your own schedule all morning. Park at the beach lot for the information table and to start exploring.
X-ALT-DESC;FMTTYPE=text/html:<p style="margin-bottom: 0in\;">\n	<br />\n	<br />\n	<span style="font-size: 14px\;"><strong>PIKE LAKE DISCOVERY DAY</strong></span><br />\n	<br />\n	Explore what you might have missed at the Pike Lake Unit of Kettle Moraine State Forest. Enjoy nature-print shirt painting (bring a T-shirt!)\, Smokey Bear (bring a camera!)\, a nature-themed scavenger hunt\, the astronomy trail\, solar scope sun viewing\, an 8:00 am guided bird hike\, 9:30 &amp\; 10:30 kayak demonstrations and an 11:00 fishing activity. Other activities are on your own schedule all morning. Park at the beach lot for the information table and to start exploring.</p>\n
LOCATION:Kettle Moraine State Forest - Pike Lake Unit 3544 Kettle Moraine Road Hartford\, WI 53027 (262) 670-3400
UID:e.898.1827
SEQUENCE:3
DTSTAMP:20260419T121106Z
URL:https://business.hartfordareachamber.org/events/details/pike-lake-discovery-day-06-01-2013-1827
END:VEVENT

END:VCALENDAR
