BEGIN:VCALENDAR
VERSION:2.0
PRODID:-//ChamberMaster//Event Calendar 2.0//EN
METHOD:PUBLISH
X-PUBLISHED-TTL:P3D
REFRESH-INTERVAL:P3D
CALSCALE:GREGORIAN
BEGIN:VEVENT
DTSTART:20120421T133000Z
DTEND:20120421T170000Z
X-MICROSOFT-CDO-ALLDAYEVENT:FALSE
SUMMARY:Pike Lake Powder Hill Trail Run
DESCRIPTION:Come join us for the 1st Annual run through the beautiful Kettle Moraine Forest.\n\n\n\nRun a 5K\, 10K or team event.  Top 3 individuals and Top 3 age group in each race\, and Top 2 in each team division will receive rewards.\n\n\n\n$25 individual entry fee\, $60 team entry fee.\n\n\n\nEvent benefits the Pike Lake State Park and the Hartford Food Pantry\n\n\n\nFor registration please go to:\n\nhttp://pikelaketrailrun.com/
X-ALT-DESC;FMTTYPE=text/html:Come join us for the 1st Annual run through the beautiful Kettle Moraine Forest.<br />\n<br />\nRun a 5K\, 10K or team event.&nbsp\; Top 3 individuals and Top 3 age group in each race\, and Top 2 in each team division will receive rewards.<br />\n<br />\n$25 individual entry fee\, $60 team entry fee.<br />\n<br />\nEvent benefits the Pike Lake State Park and the Hartford Food Pantry<br />\n<br />\nFor registration please go to:<br />\n<a href="http://pikelaketrailrun.com/">http://pikelaketrailrun.com/</a>
LOCATION:Pike Lake State Park Kettle Moraine Drive @ Highway 60 Hartford\, WI 53027
UID:e.898.1168
SEQUENCE:3
DTSTAMP:20260422T105427Z
URL:https://business.hartfordareachamber.org/events/details/pike-lake-powder-hill-trail-run-04-21-2012-1168
END:VEVENT

END:VCALENDAR
