BEGIN:VCALENDAR
VERSION:2.0
PRODID:-//ChamberMaster//Event Calendar 2.0//EN
METHOD:PUBLISH
X-PUBLISHED-TTL:P3D
REFRESH-INTERVAL:P3D
CALSCALE:GREGORIAN
BEGIN:VEVENT
DTSTART:20121010T153000Z
DTEND:20121010T170000Z
X-MICROSOFT-CDO-ALLDAYEVENT:FALSE
SUMMARY:Preparedness for a Medical Crisis
DESCRIPTION:"Finding Your Way Home" \n\n	An eight week workshop for all ages covering areas of Pre-Planning: finances\, funeral arrangements\, legal documents and a complete overview of medical services\, equipment\, living environments\, day programs\, county programs and end of life services available.\n\n	\n\n	Attendees will work through each week individualizing the chapters to reflect their wishes.  At the end of the workshop\, each attendee will have a complete\, well-organized book to pass on to those they entrust their care to and be their voice.\n\n	\n\n	RSVP by April 27\, 2012 to:\n\n	Deb Winterhack at 414-239-0374\n\n	    Seasons Hospice & Palliative Care\n\n	or\n\n	Patti Nelson-Gill at 262-673-2220\n\n	    Hartford Healthcare Center
X-ALT-DESC;FMTTYPE=text/html:<h3>\n	<span style="color: #0000cd"><strong>&quot\;Finding Your Way Home&quot\;&nbsp\;</strong></span></h3>\n<p>\n	An eight week workshop for all ages covering areas of Pre-Planning: finances\, funeral arrangements\, legal documents and a complete overview of medical services\, equipment\, living environments\, day programs\, county programs and end of life services available.<br />\n	<br />\n	Attendees will work through each week individualizing the chapters to reflect their wishes.&nbsp\; At the end of the workshop\, each attendee will have a complete\, well-organized book to pass on to those they entrust their care to and be their voice.<br />\n	<br />\n	<span style="color: #0000cd"><strong>RSVP by April 27\, 2012&nbsp\;to:</strong></span></p>\n<p>\n	Deb Winterhack at 414-239-0374<br />\n	&nbsp\; &nbsp\; Seasons Hospice &amp\; Palliative Care<br />\n	<em>or</em><br />\n	Patti Nelson-Gill at 262-673-2220<br />\n	&nbsp\;&nbsp\;&nbsp\; Hartford Healthcare Center</p>\n
LOCATION:Hartford Senior Center 730 Highland Ave Hartford\, 53027 262-673-4005
UID:e.898.1160
SEQUENCE:3
DTSTAMP:20260420T003204Z
URL:https://business.hartfordareachamber.org/events/details/preparedness-for-a-medical-crisis-10-10-2012-1160
END:VEVENT

END:VCALENDAR
