BEGIN:VCALENDAR
VERSION:2.0
PRODID:-//ChamberMaster//Event Calendar 2.0//EN
METHOD:PUBLISH
X-PUBLISHED-TTL:P3D
REFRESH-INTERVAL:P3D
CALSCALE:GREGORIAN
BEGIN:VEVENT
DTSTART:20190709T190000Z
DTEND:20190709T205500Z
X-MICROSOFT-CDO-ALLDAYEVENT:FALSE
SUMMARY:Probate Avoidance CRN - 10225
DESCRIPTION:102-625  CRN - 10225 Probate Avoidance                                                   \n\nAfter your death\, your estate does not have to be subject to probate administration. This presentation is an overview of probate avoidance techniques in Wisconsin and includes setting up payable on death and transfer on death designations on accounts\, compelling legal reasons for creating revocable living trusts and transferring your home or other real estate to avoid probate without the cost of establishing a revocable trust.
X-ALT-DESC;FMTTYPE=text/html:102-625&nbsp\; CRN - 10225 Probate Avoidance&nbsp\; &nbsp\; &nbsp\; &nbsp\; &nbsp\; &nbsp\; &nbsp\; &nbsp\; &nbsp\; &nbsp\; &nbsp\; &nbsp\; &nbsp\; &nbsp\; &nbsp\; &nbsp\; &nbsp\; &nbsp\; &nbsp\; &nbsp\; &nbsp\; &nbsp\; &nbsp\; &nbsp\; &nbsp\; &nbsp\;<br />\nAfter your death\, your estate does not have to be subject to probate administration. This presentation is an overview of probate avoidance techniques in Wisconsin and includes setting up payable on death and transfer on death designations on accounts\, compelling legal reasons for creating revocable living trusts and transferring your home or other real estate to avoid probate without the cost of establishing a revocable trust.<br />\n&nbsp\;
LOCATION:Hartford Union High School District 805 Cedar Street\, Hartford\, WI 53027 Room 147
UID:e.898.5912
SEQUENCE:3
DTSTAMP:20260419T135128Z
URL:https://business.hartfordareachamber.org/events/details/probate-avoidance-crn-10225-5912
END:VEVENT

END:VCALENDAR
