BEGIN:VCALENDAR
VERSION:2.0
PRODID:-//ChamberMaster//Event Calendar 2.0//EN
METHOD:PUBLISH
X-PUBLISHED-TTL:P3D
REFRESH-INTERVAL:P3D
CALSCALE:GREGORIAN
BEGIN:VEVENT
DTSTART:20141210T223000Z
DTEND:20141211T003000Z
X-MICROSOFT-CDO-ALLDAYEVENT:FALSE
SUMMARY:Public Meeting - WIS 83 Reconstruction Project
DESCRIPTION:The Wisconsin Department of Transportation (WisDOT) Southeast Region invites you to attend the third public involvement meeting regarding the reconstruction of WIS 83 from East Monroe Avenue to Sumner Street (WIS 60) in the city of Hartford\, Washington County.\n\n\n\nDue to construction at Hartford City Hall please use the Main Street entrance.\n\n\n\nClick HERE for informational flyer
X-ALT-DESC;FMTTYPE=text/html:The Wisconsin Department of Transportation (WisDOT) Southeast Region invites you to attend the third public involvement meeting regarding the reconstruction of WIS 83 from East Monroe Avenue to Sumner Street (WIS 60) in the city of Hartford\, Washington County.<br />\n<br />\nDue to construction at Hartford City Hall please use the Main Street entrance.<br />\n<br />\nClick <a href="http://cloud.chambermaster.com/userfiles/UserFiles/chambers/898/File/WIS83Reconstruction.pdf" target="_blank">HERE</a> for informational flyer
LOCATION:Hartford City Hall Scherger Hall Community Room 109 North Main Street Hartford\, WI
UID:e.898.3286
SEQUENCE:3
DTSTAMP:20260420T182152Z
URL:https://business.hartfordareachamber.org/events/details/public-meeting-wis-83-reconstruction-project-12-10-2014-3286
END:VEVENT

END:VCALENDAR
