BEGIN:VCALENDAR
VERSION:2.0
PRODID:-//ChamberMaster//Event Calendar 2.0//EN
METHOD:PUBLISH
X-PUBLISHED-TTL:P3D
REFRESH-INTERVAL:P3D
CALSCALE:GREGORIAN
BEGIN:VEVENT
DTSTART:20120615T140000Z
DTEND:20120615T220000Z
X-MICROSOFT-CDO-ALLDAYEVENT:FALSE
SUMMARY:Puttin' Four Paws Golf Outing
DESCRIPTION:
X-ALT-DESC;FMTTYPE=text/html:
LOCATION:Scenic View Country Club
UID:e.898.844
SEQUENCE:3
DTSTAMP:20260424T101206Z
URL:https://business.hartfordareachamber.org/events/details/puttin-four-paws-golf-outing-06-15-2012-844
END:VEVENT

END:VCALENDAR
