BEGIN:VCALENDAR
VERSION:2.0
PRODID:-//ChamberMaster//Event Calendar 2.0//EN
METHOD:PUBLISH
X-PUBLISHED-TTL:P3D
REFRESH-INTERVAL:P3D
CALSCALE:GREGORIAN
BEGIN:VEVENT
DTSTART:20130824T183000Z
DTEND:20130824T213000Z
X-MICROSOFT-CDO-ALLDAYEVENT:FALSE
SUMMARY:Raivu 1440 Middle/High School Car Wash
DESCRIPTION:All proceeds from this event will benefit Raivu 1440 youth!
X-ALT-DESC;FMTTYPE=text/html:All proceeds from this event will benefit Raivu 1440 youth!
LOCATION:Hartley Family Dentistry\, 410 E Washington St\, Slinger
UID:e.898.2614
SEQUENCE:3
DTSTAMP:20260421T234058Z
URL:https://business.hartfordareachamber.org/events/details/raivu-1440-middle-high-school-car-wash-08-24-2013-2614
END:VEVENT

END:VCALENDAR
