BEGIN:VCALENDAR
VERSION:2.0
PRODID:-//ChamberMaster//Event Calendar 2.0//EN
METHOD:PUBLISH
X-PUBLISHED-TTL:P3D
REFRESH-INTERVAL:P3D
CALSCALE:GREGORIAN
BEGIN:VEVENT
DTSTART:20130405T213000Z
DTEND:20130406T003000Z
X-MICROSOFT-CDO-ALLDAYEVENT:FALSE
SUMMARY:Redeemer's Annual April Schwai's Fish Fry
DESCRIPTION:Redeemer's Annual April Schwai's Fish Fry!\n\nFriday\, April 5\n\n4:30-7:30 pm\n\nRedeemer Lutheran Church\n\n255 W. Lincoln Avenue - Hartford
X-ALT-DESC;FMTTYPE=text/html:<strong><span style="font-size: 14px\;">Redeemer&#39\;s Annual April Schwai&#39\;s Fish Fry!</span></strong><br />\n<span style="font-size: 14px\;"><span style="font-size: 12px\;">Friday\, April 5<br />\n4:30-7:30 pm<br />\nRedeemer Lutheran Church<br />\n255 W. Lincoln Avenue - Hartford</span></span>
LOCATION:255 W. Lincoln Ave.\, Hartford
UID:e.898.1779
SEQUENCE:3
DTSTAMP:20260419T150625Z
URL:https://business.hartfordareachamber.org/events/details/redeemer-s-annual-april-schwai-s-fish-fry-04-05-2013-1779
END:VEVENT

END:VCALENDAR
