BEGIN:VCALENDAR
VERSION:2.0
PRODID:-//ChamberMaster//Event Calendar 2.0//EN
METHOD:PUBLISH
X-PUBLISHED-TTL:P3D
REFRESH-INTERVAL:P3D
CALSCALE:GREGORIAN
BEGIN:VEVENT
DTSTART:20190716T233000Z
DTEND:20190717T010000Z
X-MICROSOFT-CDO-ALLDAYEVENT:FALSE
SUMMARY:River City Irregulars Band Concert
DESCRIPTION:Enjoy a summer evening performance of the West Bend Community Band\, the River City Irregulars\, on the Washington County Veterans' Memorial Plaza. Admission is free and all ages are welcome. Bring a chair or blanket.
X-ALT-DESC;FMTTYPE=text/html:Enjoy a summer evening performance of the West Bend Community Band\, the River City Irregulars\, on the Washington County Veterans&rsquo\; Memorial Plaza. Admission is free and all ages are welcome. Bring a chair or blanket.
LOCATION:The History Center Washington County 320 S 5th Ave West Bend WI 53095
UID:e.898.5929
SEQUENCE:3
DTSTAMP:20260419T135718Z
URL:https://business.hartfordareachamber.org/events/details/river-city-irregulars-band-concert-07-16-2019-5929
END:VEVENT

END:VCALENDAR
