BEGIN:VCALENDAR
VERSION:2.0
PRODID:-//ChamberMaster//Event Calendar 2.0//EN
METHOD:PUBLISH
X-PUBLISHED-TTL:P3D
REFRESH-INTERVAL:P3D
CALSCALE:GREGORIAN
BEGIN:VEVENT
DTSTART:20131205T010000Z
DTEND:20131205T030000Z
X-MICROSOFT-CDO-ALLDAYEVENT:FALSE
SUMMARY:Rochelle Pennington: Christmas Miracle
DESCRIPTION:The Hartford Public Library and Friends of the Library present Rochelle Pennington: Christmas Miracle Rochelle Pennington is an award-winning newspaper columnist and bestselling author of ten books including Christmas Gifts: Ten of the Greatest Ever Given and The Historic Christmas Tree Ship.
X-ALT-DESC;FMTTYPE=text/html:The Hartford Public Library and Friends of the Library present Rochelle Pennington: Christmas Miracle Rochelle Pennington is an award-winning newspaper columnist and bestselling author of ten books including Christmas Gifts: Ten of the Greatest Ever Given and The Historic Christmas Tree Ship. 
LOCATION:Jack Russell Memorial Library 600 Park Ave.\, Hartford\, WI
UID:e.898.2863
SEQUENCE:3
DTSTAMP:20260421T172509Z
URL:https://business.hartfordareachamber.org/events/details/rochelle-pennington-christmas-miracle-12-04-2013-2863
END:VEVENT

END:VCALENDAR
