BEGIN:VCALENDAR
VERSION:2.0
PRODID:-//ChamberMaster//Event Calendar 2.0//EN
METHOD:PUBLISH
X-PUBLISHED-TTL:P3D
REFRESH-INTERVAL:P3D
CALSCALE:GREGORIAN
BEGIN:VEVENT
DTSTART:20130504T210000Z
DTEND:20130505T010000Z
X-MICROSOFT-CDO-ALLDAYEVENT:FALSE
SUMMARY:S.A.M.B.A 7th Annual Chicken Dinner
DESCRIPTION:Slinger Area Music Booster Association\n\n7th Annual Chicken Dinner\n\n\n\nSaturday\, May 4\n\n4-8 pm\n\n\n\nHeld at\n\nAllenton Veterans' Memorial Park\n\nHeated Pavilion\n\n101 First Street - Allenton    \n\n\n\nDinner includes 1/4 chicken\, potatoes\, corn & bread\n\n\n\nSilent Auction\, 50/50 Raffle\, & Bucket Raffles\n\nLive Auctions starting at 7:00 pm
X-ALT-DESC;FMTTYPE=text/html:<span style="font-size: 14px\;"><strong>Slinger Area Music Booster Association<br />\n7th Annual Chicken Dinner</strong></span><br />\n<br />\nSaturday\, May 4<br />\n4-8 pm<br />\n<br />\nHeld at<br />\nAllenton Veterans&#39\; Memorial Park<br />\nHeated Pavilion<br />\n101 First Street - Allenton&nbsp\;&nbsp\;&nbsp\;&nbsp\;<br />\n<br />\nDinner includes 1/4 chicken\, potatoes\, corn &amp\; bread<br />\n<br />\nSilent Auction\, 50/50 Raffle\, &amp\; Bucket Raffles<br />\nLive Auctions starting at 7:00 pm&nbsp\;
LOCATION:Allenton Veterans' Memorial Park 101 First Street - Allenton
UID:e.898.1794
SEQUENCE:3
DTSTAMP:20260422T043052Z
URL:https://business.hartfordareachamber.org/events/details/s-a-m-b-a-7th-annual-chicken-dinner-05-04-2013-1794
END:VEVENT

END:VCALENDAR
