BEGIN:VCALENDAR
VERSION:2.0
PRODID:-//ChamberMaster//Event Calendar 2.0//EN
METHOD:PUBLISH
X-PUBLISHED-TTL:P3D
REFRESH-INTERVAL:P3D
CALSCALE:GREGORIAN
BEGIN:VEVENT
DTSTART:20120421T190000Z
DTEND:20120421T203000Z
X-MICROSOFT-CDO-ALLDAYEVENT:FALSE
SUMMARY:Schoolhouse Rock Live Jr.
DESCRIPTION:Peace Lutheran School presents their spring musical "Schoolhouse Rock Live Jr". The Emmy Award-Winning 1970s Saturday morning cartoon series that taught history\, grammar\, math\, science\, and politics through clever\, tuneful songs is making a comeback instructing a whole new generation to "Unpack Your Adjectives and "Do the Circulation\," through familiar Schoolhouse Rock songs such as "Just a Bill\," "Lolly\, Lolly\, Lolly\," and "Conjunction Junction."\n\n\n\nChildren just discovering the TV series to 'Generation X-ers" seeking a taste of nostalgia will delight in this sure-fire entertainment that's simply good\, clean\, educational\, and fun.
X-ALT-DESC;FMTTYPE=text/html:&nbsp\; Peace Lutheran School presents their spring musical &quot\;Schoolhouse Rock Live Jr&quot\;. The Emmy Award-Winning 1970s Saturday morning cartoon series that taught history\, grammar\, math\, science\, and politics through clever\, tuneful songs is making a comeback instructing a whole new generation to &quot\;Unpack Your Adjectives and &quot\;Do the Circulation\,&quot\; through familiar Schoolhouse Rock songs such as &quot\;Just a Bill\,&quot\; &quot\;Lolly\, Lolly\, Lolly\,&quot\; and &quot\;Conjunction Junction.&quot\;<br />\n<br />\nChildren just discovering the TV series to &#39\;Generation X-ers&quot\; seeking a taste of nostalgia will delight in this sure-fire entertainment that&#39\;s simply good\, clean\, educational\, and fun. &nbsp\;&nbsp\;&nbsp\;&nbsp\;&nbsp\;&nbsp\;&nbsp\;&nbsp\;&nbsp\;&nbsp\;&nbsp\;&nbsp\;&nbsp\;&nbsp\;&nbsp\;&nbsp\;&nbsp\;&nbsp\;&nbsp\;&nbsp\;&nbsp\;&nbsp\;&nbsp\;&nbsp\;&nbsp\;&nbsp\;&nbsp\;&nbsp\;&nbsp\;&nbsp\;&nbsp\;&nbsp\; 
LOCATION:Schauer Arts and Activities Center 147 N Rural Hartford WI 53027
UID:e.898.1170
SEQUENCE:3
DTSTAMP:20260420T093640Z
URL:https://business.hartfordareachamber.org/events/details/schoolhouse-rock-live-jr-04-21-2012-1170
END:VEVENT

END:VCALENDAR
