BEGIN:VCALENDAR
VERSION:2.0
PRODID:-//ChamberMaster//Event Calendar 2.0//EN
METHOD:PUBLISH
X-PUBLISHED-TTL:P3D
REFRESH-INTERVAL:P3D
CALSCALE:GREGORIAN
BEGIN:VEVENT
DTSTART:20140413T000000Z
DTEND:20140413T000000Z
X-MICROSOFT-CDO-ALLDAYEVENT:FALSE
SUMMARY:Seussical Jr. The Musical
DESCRIPTION:With a cast of over 100 students\, Hartford's Central Middle School will be performing the musical Seussical Jr. The Musical in April under the direction of Lori Hassig and Juliana Geraghty.  \n\n"Oh\, the THINKS you can THINK!" captures the spirit of this whimsical\, musical extravaganza!  Seussical\, Jr.\, which is based on the books of Dr. Seuss and his memorable characters\, follows the adventures of Horton the Elephant as he sets out to protect the people of "Whoville" from destruction.\n\nCentral Middle School's production of Seussical\, Jr. gives 110 6th- 8th grade students the opportunity to experience the power of working as a team in a theater ensemble.  Singing\, dancing\, acting and character work are part of the rehearsal process.  Actors practice the values of cooperation\, teamwork and problem solving under the guidance of the directors.
X-ALT-DESC;FMTTYPE=text/html:<p style="margin: 0in 0in 7.5pt\;"><br />\n<span style="font-family: Arial\; font-size: 10.5pt\;"><font color="#000000">With a cast of over 100 students\, <st1:city w:st="on">Hartford</st1:city>&rsquo\;s <st1:place w:st="on"><st1:placename w:st="on">Central</st1:placename> <st1:placetype w:st="on">Middle School</st1:placetype></st1:place> will be performing the musical <b><i>Seussical Jr. The Musical</i></b> in April under the direction of Lori Hassig and Juliana Geraghty. &nbsp\;</font></span></p>\n\n<p style="margin: 0in 0in 7.5pt\;"><span style="color: rgb(23\, 23\, 23)\; font-family: Arial\; font-size: 10.5pt\;">&ldquo\;<i>Oh\, the THINKS you can THINK!</i>&rdquo\; captures the spirit of this whimsical\, musical extravaganza!</span><span style="font-family: Arial\; font-size: 10.5pt\;"><font color="#000000">&nbsp\; <i>Seussical\, Jr.</i>\, which is based on the books of Dr. Seuss and his memorable characters\, follows the adventures of Horton the Elephant as he sets out to protect the people of &ldquo\;Whoville&rdquo\; from destruction.</font></span></p>\n\n<p style="margin: 0in 0in 7.5pt\;"><font color="#000000"><st1:place w:st="on"><st1:placename w:st="on"><span style="font-family: Arial\; font-size: 10.5pt\;">Central</span></st1:placename><span style="font-family: Arial\; font-size: 10.5pt\;"> <st1:placetype w:st="on">Middle School</st1:placetype></span></st1:place><span style="font-family: Arial\; font-size: 10.5pt\;">&rsquo\;s production of Seussical\, Jr. gives 110 6<sup>th</sup>- 8<sup>th</sup> grade students the opportunity to experience the power of working as a team in a theater ensemble.&nbsp\; Singing\, dancing\, acting and character work are part of the rehearsal process.&nbsp\; Actors practice the values of cooperation\, teamwork and problem solving under the guidance of the directors.&nbsp\;</span></font></p>\n
LOCATION:Central Middle School 1100 Cedar Street Hartford
UID:e.898.3077
SEQUENCE:3
DTSTAMP:20260421T084129Z
URL:https://business.hartfordareachamber.org/events/details/seussical-jr-the-musical-04-12-2014-3077
END:VEVENT

END:VCALENDAR
