BEGIN:VCALENDAR
VERSION:2.0
PRODID:-//ChamberMaster//Event Calendar 2.0//EN
METHOD:PUBLISH
X-PUBLISHED-TTL:P3D
REFRESH-INTERVAL:P3D
CALSCALE:GREGORIAN
BEGIN:VEVENT
DTSTART:20131007T140000Z
DTEND:20131007T160000Z
X-MICROSOFT-CDO-ALLDAYEVENT:FALSE
SUMMARY:Shoo the Flu! Clinic
DESCRIPTION:Shoo the Flu!  Wiping out the Flu\, one shot at a time!\n\nOpen to the public\, no appointment needed and no age restriction. \n\nBring your Medicare Card and other Insurance Cards (for billing purposes). \n\nSponsored by  Aurora Quick Care.
X-ALT-DESC;FMTTYPE=text/html:Shoo the Flu!&nbsp\; Wiping out the Flu\, one shot at a time!<br />\nOpen to the public\, no appointment needed and no age restriction.&nbsp\;<br />\nBring your Medicare Card and other Insurance Cards (for billing purposes).&nbsp\;<br />\nSponsored by&nbsp\; Aurora Quick Care.
LOCATION:Hartford Senior Center 730 Highland Avenue Hartford\, WI 53027
UID:e.898.2783
SEQUENCE:3
DTSTAMP:20260421T201741Z
URL:https://business.hartfordareachamber.org/events/details/shoo-the-flu-clinic-10-07-2013-2783
END:VEVENT

END:VCALENDAR
