BEGIN:VCALENDAR
VERSION:2.0
PRODID:-//ChamberMaster//Event Calendar 2.0//EN
METHOD:PUBLISH
X-PUBLISHED-TTL:P3D
REFRESH-INTERVAL:P3D
CALSCALE:GREGORIAN
BEGIN:VEVENT
DTSTART:20190319T233000Z
DTEND:20190320T013000Z
X-MICROSOFT-CDO-ALLDAYEVENT:FALSE
SUMMARY:Show and Tell with Mike Paul
DESCRIPTION:Dig out your family treasures\, dust them off\, and bring them to Show 'n' Tell with Mike Paul. Mike Paul is a professional appraiser and auctioneer of Paul Auction Company\, Inc. in Kewaskum. Mike will share his incredible knowledge of antiques with the audience as he examines each piece. Even if you don't have anything to share\, this evening is fun & informative. $5.00/non-member. Free/WCHS Member. Please\, only ONE ITEM per person. Don't have an item? There's no charge to watch. Contact Hannah - education@historyisfun.com or (262) 335-4678.
X-ALT-DESC;FMTTYPE=text/html:Dig out your family treasures\, dust them off\, and bring them to Show &lsquo\;n&rsquo\; Tell with Mike Paul. Mike Paul is a professional appraiser and auctioneer of Paul Auction Company\, Inc. in Kewaskum. Mike will share his incredible knowledge of antiques with the audience as he examines each piece. Even if you don&rsquo\;t have anything to share\, this evening is fun &amp\; informative. $5.00/non-member. Free/WCHS Member. Please\, only ONE ITEM per person. Don&rsquo\;t have an item? There&rsquo\;s no charge to watch. Contact Hannah - education@historyisfun.com or (262) 335-4678.
LOCATION:The History Center Washington County 320 S 5th Ave West Bend WI 53095
UID:e.898.5886
SEQUENCE:3
DTSTAMP:20260419T213725Z
URL:https://business.hartfordareachamber.org/events/details/show-and-tell-with-mike-paul-5886
END:VEVENT

END:VCALENDAR
