BEGIN:VCALENDAR
VERSION:2.0
PRODID:-//ChamberMaster//Event Calendar 2.0//EN
METHOD:PUBLISH
X-PUBLISHED-TTL:P3D
REFRESH-INTERVAL:P3D
CALSCALE:GREGORIAN
BEGIN:VEVENT
DTSTART:20130320T000000Z
DTEND:20130320T020000Z
X-MICROSOFT-CDO-ALLDAYEVENT:FALSE
SUMMARY:Show 'n' Tell with Mike Paul
DESCRIPTION:Dig out your family treasures\, dust them off\, and bring them to Show 'n' Tell with Mike Paul. Mike Paul is a professional appraiser and auctioneer of Paul Auction Company\, Inc. in Kewaskum.\n\n	Mike will share his incredible knowledge of antiques with the audience as he examines each piece.\n\n	Even if you don't have anything to share\, this evening is fun & informative.\n\n	$5.00/non-member\n\n	Free/WCHS Member\n\n	Please\, only ONE ITEM per person.
X-ALT-DESC;FMTTYPE=text/html:<p>\n	Dig out your family treasures\, dust them off\, and bring them to Show &lsquo\;n&rsquo\; Tell with Mike Paul. Mike Paul is a professional appraiser and auctioneer of Paul Auction Company\, Inc. in Kewaskum.</p>\n<p>\n	Mike will share his incredible knowledge of antiques with the audience as he examines each piece.</p>\n<p>\n	Even if you don&rsquo\;t have anything to share\, this evening is fun &amp\; informative.</p>\n<p>\n	$5.00/non-member<br />\n	Free/WCHS Member</p>\n<p>\n	<strong>Please\, only ONE ITEM per person. </strong></p>\n
LOCATION:Old Courthouse Museum 320 S. 5th Ave. West Bend\, WI 53095
UID:e.898.1717
SEQUENCE:3
DTSTAMP:20260419T165357Z
URL:https://business.hartfordareachamber.org/events/details/show-n-tell-with-mike-paul-03-19-2013-1717
END:VEVENT

END:VCALENDAR
