BEGIN:VCALENDAR
VERSION:2.0
PRODID:-//ChamberMaster//Event Calendar 2.0//EN
METHOD:PUBLISH
X-PUBLISHED-TTL:P3D
REFRESH-INTERVAL:P3D
CALSCALE:GREGORIAN
BEGIN:VEVENT
DTSTART:20130602T150000Z
DTEND:20130602T170000Z
X-MICROSOFT-CDO-ALLDAYEVENT:FALSE
SUMMARY:Silver Lining Boys & Girls Club 5K for Kids
DESCRIPTION:A 3.1 mile run/walk to benefit the Boys & Girls Clubs of Washington County.  Open to runners and walkers at all levels\, children and adults of all ages.  Strollers are permitted on the run/walk course.  Plus special children's races for ages 9 and under offered!  All proceeds support over 2\,000 youth served at the  Clubs in West Bend\, Jackson\, Hartford and Kewaskum.  wcbgc.org for registration/information brochure.
X-ALT-DESC;FMTTYPE=text/html:A 3.1 mile run/walk to benefit the Boys &amp\; Girls Clubs of Washington County.&nbsp\; Open to runners and walkers at all levels\, children and adults of all ages.&nbsp\; Strollers are permitted on the run/walk course.&nbsp\; Plus special children&#39\;s races for ages 9 and under offered!&nbsp\; All proceeds support&nbsp\;over 2\,000 youth served at the &nbsp\;Clubs in West Bend\, Jackson\, Hartford and Kewaskum.&nbsp\; wcbgc.org for registration/information brochure.
LOCATION:925 N. Silverbrook Drive\, West Bend\, WI 53090
UID:e.898.1814
SEQUENCE:3
DTSTAMP:20260422T025556Z
URL:https://business.hartfordareachamber.org/events/details/silver-lining-boys-girls-club-5k-for-kids-06-02-2013-1814
END:VEVENT

END:VCALENDAR
