BEGIN:VCALENDAR
VERSION:2.0
PRODID:-//ChamberMaster//Event Calendar 2.0//EN
METHOD:PUBLISH
X-PUBLISHED-TTL:P3D
REFRESH-INTERVAL:P3D
CALSCALE:GREGORIAN
BEGIN:VEVENT
DTSTART:20120811T230000Z
DTEND:20120812T010000Z
X-MICROSOFT-CDO-ALLDAYEVENT:FALSE
SUMMARY:Smokey Bear's Birthday Party
DESCRIPTION:Smokey Bear's Birthday Party\n\n\n\nKids will be able to learn about campfire safety -\n\nbuild a campfire out of pretzel sticks. \n\nSing Happy Birthday and celebrate\n\nwith cake and ice cream.
X-ALT-DESC;FMTTYPE=text/html:<strong><span style="font-size:16px\;">Smokey Bear&#39\;s Birthday Party</span></strong><br />\n<br />\n<span style="font-size:14px\;">Kids will be able to learn about campfire safety -<br />\nbuild a campfire out of pretzel sticks.&nbsp\;<br />\nSing Happy Birthday and celebrate<br />\nwith cake and ice cream.</span>
LOCATION:Pike Lake State Forest Beach
UID:e.898.1562
SEQUENCE:3
DTSTAMP:20260420T033153Z
URL:https://business.hartfordareachamber.org/events/details/smokey-bear-s-birthday-party-08-11-2012-1562
END:VEVENT

END:VCALENDAR
