BEGIN:VCALENDAR
VERSION:2.0
PRODID:-//ChamberMaster//Event Calendar 2.0//EN
METHOD:PUBLISH
X-PUBLISHED-TTL:P3D
REFRESH-INTERVAL:P3D
CALSCALE:GREGORIAN
BEGIN:VEVENT
DTSTART:20120505T003000Z
DTEND:20120505T010000Z
X-MICROSOFT-CDO-ALLDAYEVENT:FALSE
SUMMARY:Sones de Mexico
DESCRIPTION:Bright four-part vocals and acrobatic dances cross cultures with symphonic\, Irish\, folk\, jazz and rock music\, though never abondoning their roots.
X-ALT-DESC;FMTTYPE=text/html:Bright four-part vocals and acrobatic dances cross cultures with symphonic\, Irish\, folk\, jazz and rock music\, though never abondoning their roots. 
LOCATION:Schauer Arts Center
UID:e.898.580
SEQUENCE:3
DTSTAMP:20260423T003029Z
URL:https://business.hartfordareachamber.org/events/details/sones-de-mexico-05-04-2012-580
END:VEVENT

END:VCALENDAR
