BEGIN:VCALENDAR
VERSION:2.0
PRODID:-//ChamberMaster//Event Calendar 2.0//EN
METHOD:PUBLISH
X-PUBLISHED-TTL:P3D
REFRESH-INTERVAL:P3D
CALSCALE:GREGORIAN
BEGIN:VEVENT
DTSTART:20140906T130000Z
DTEND:20140906T200000Z
X-MICROSOFT-CDO-ALLDAYEVENT:FALSE
SUMMARY:Sports Show - United Vietnam Veterans
DESCRIPTION:Buy - Sell - Trade\n\nNew and used fishing and hunting items\n\nToo numerous to mention everything!\n\n\n\nNon-profit Veterans organization\n\n\n\nFood & beverage available at the show!\n\n\n\nAdvance Registration for a display table\n\n\n\nClick HERE for flyer
X-ALT-DESC;FMTTYPE=text/html:<strong><span style="font-size:16px\;">Buy - Sell - Trade</span></strong><br />\nNew and used fishing and hunting items<br />\nToo numerous to mention everything!<br />\n<br />\nNon-profit Veterans organization<br />\n<br />\nFood &amp\; beverage available at the show!<br />\n<br />\nAdvance Registration for a display table<br />\n<br />\nClick <a href="http://cloud.chambermaster.com/userfiles/UserFiles/chambers/898/File/UnitedVietnamVeteranssportsshow.pdf">HERE</a> for flyer
LOCATION:Hartford Town Hall 3360 County Road K\, Hartford
UID:e.898.3227
SEQUENCE:3
DTSTAMP:20260420T234133Z
URL:https://business.hartfordareachamber.org/events/details/sports-show-united-vietnam-veterans-09-06-2014-3227
END:VEVENT

END:VCALENDAR
