BEGIN:VCALENDAR
VERSION:2.0
PRODID:-//ChamberMaster//Event Calendar 2.0//EN
METHOD:PUBLISH
X-PUBLISHED-TTL:P3D
REFRESH-INTERVAL:P3D
CALSCALE:GREGORIAN
BEGIN:VEVENT
DTSTART:20150426T193000Z
DTEND:20150426T203000Z
X-MICROSOFT-CDO-ALLDAYEVENT:FALSE
SUMMARY:Spring Concert - Hartford City Band
DESCRIPTION:Spring Concert\n\n\n\nHartford City Band
X-ALT-DESC;FMTTYPE=text/html:<strong><span style="font-size:18px\;">Spring Concert</span></strong><br />\n<br />\nHartford City Band
LOCATION:Schauer Arts & Activities Center 147 N. Rural Street\, Hartford
UID:e.898.3224
SEQUENCE:3
DTSTAMP:20260420T140506Z
URL:https://business.hartfordareachamber.org/events/details/spring-concert-hartford-city-band-04-26-2015-3224
END:VEVENT

END:VCALENDAR
