BEGIN:VCALENDAR
VERSION:2.0
PRODID:-//ChamberMaster//Event Calendar 2.0//EN
METHOD:PUBLISH
X-PUBLISHED-TTL:P3D
REFRESH-INTERVAL:P3D
CALSCALE:GREGORIAN
BEGIN:VEVENT
DTSTART;VALUE=DATE:20130418
DTEND;VALUE=DATE:20130419
TRANSP:TRANSPARENT
X-MICROSOFT-CDO-ALLDAYEVENT:TRUE
SUMMARY:Spring Fashion Show
DESCRIPTION:Please join us for a one day special event.  Thursday April 18th 10 a.m. - 6 p.m.  Spring Frame Fashion Show featuring frame representative Dave Janssen with Kenmark.  50% off frame.  (some restrictions apply) .\n\n\n\nVera Wang\n\nKensie\n\nLilly Pultzer\n\nTimex\n\nRepubica\n\nThalia\n\n\n\nJust a few of the lines we will be showing!
X-ALT-DESC;FMTTYPE=text/html:Please join us for a one day special event.&nbsp\; Thursday April 18th 10 a.m. - 6 p.m.&nbsp\; Spring Frame Fashion Show featuring frame representative Dave Janssen with Kenmark.&nbsp\;&nbsp\;50% off frame.&nbsp\;&nbsp\;(some restrictions apply) .<br />\n<br />\nVera Wang<br />\nKensie<br />\nLilly Pultzer<br />\nTimex<br />\nRepubica<br />\nThalia<br />\n<br />\nJust a few of the lines we will be showing!
LOCATION:Hartford Vision Center 23 S Main St Ste B Hartford WI 53027
UID:e.898.1788
SEQUENCE:3
DTSTAMP:20260419T150442Z
URL:https://business.hartfordareachamber.org/events/details/spring-fashion-show-04-18-2013-1788
END:VEVENT

END:VCALENDAR
