BEGIN:VCALENDAR
VERSION:2.0
PRODID:-//ChamberMaster//Event Calendar 2.0//EN
METHOD:PUBLISH
X-PUBLISHED-TTL:P3D
REFRESH-INTERVAL:P3D
CALSCALE:GREGORIAN
BEGIN:VEVENT
DTSTART:20130310T160000Z
DTEND:20130311T000000Z
X-MICROSOFT-CDO-ALLDAYEVENT:FALSE
SUMMARY:St. Patrick's Dinner- Hartford Lioness
DESCRIPTION:Hartford Lioness St. Patrick's Dinner\n\n	Corned Beef and Chicken Dinner\n\n	cabbage\, carrots\, Irish potatoes\, coleslaw\, bread/butter and coffee/milk\n\n	includes Homemade Desserts\n\n	All day Raffles!\n\n	Raffle table-need not be present to win!\n\n	\n		$11.00 Adults in advance\n	\n		$12.00 Adults at the door\n	\n		$  5.00 Child under 8 advance or door\n\nTickets available at:  B & S Liquors\, Hartford Cleaners or from any Lioness
X-ALT-DESC;FMTTYPE=text/html:<p style="text-align: center\;">\n	<span style="font-size: 14px\;"><strong>Hartford Lioness St. Patrick&#39\;s Dinner<br />\n	Corned Beef and Chicken Dinner</strong></span></p>\n<p style="text-align: center\;">\n	<strong>cabbage\, carrots\, Irish potatoes\, coleslaw\, bread/butter and coffee/milk<br />\n	includes Homemade Desserts</strong></p>\n<p style="text-align: center\;">\n	<strong>All day Raffles!<br />\n	Raffle table-need not be present to win!</strong></p>\n<ul>\n	<li>\n		<strong>$11.00 Adults in advance</strong></li>\n	<li>\n		<strong>$12.00 Adults at the door</strong></li>\n	<li>\n		<strong>$ &nbsp\;5.00 Child under 8 advance or door</strong></li>\n</ul>\n<strong>Tickets available at: &nbsp\;B &amp\; S Liquors\, Hartford Cleaners or from any Lioness</strong>
LOCATION:Hartford Golf Club\, 7072 Lee Road\, Hartford WI 53027
UID:e.898.1763
SEQUENCE:3
DTSTAMP:20260419T164631Z
URL:https://business.hartfordareachamber.org/events/details/st-patrick-s-dinner-hartford-lioness-03-10-2013-1763
END:VEVENT

END:VCALENDAR
