BEGIN:VCALENDAR
VERSION:2.0
PRODID:-//ChamberMaster//Event Calendar 2.0//EN
METHOD:PUBLISH
X-PUBLISHED-TTL:P3D
REFRESH-INTERVAL:P3D
CALSCALE:GREGORIAN
BEGIN:VEVENT
DTSTART:20130501T230000Z
DTEND:20130502T020000Z
X-MICROSOFT-CDO-ALLDAYEVENT:FALSE
SUMMARY:Stained Glass Stepping Stones
DESCRIPTION:30641\n\nLearn techniques to make a stained glass stepping stone.
X-ALT-DESC;FMTTYPE=text/html:30641<br />\nLearn techniques to make a stained glass stepping stone.
LOCATION:Hartford Union High School 805 Cedar St. Hartford\, WI 53027
UID:e.898.1738
SEQUENCE:3
DTSTAMP:20260422T043426Z
URL:https://business.hartfordareachamber.org/events/details/stained-glass-stepping-stones-05-01-2013-1738
END:VEVENT

END:VCALENDAR
