BEGIN:VCALENDAR
VERSION:2.0
PRODID:-//ChamberMaster//Event Calendar 2.0//EN
METHOD:PUBLISH
X-PUBLISHED-TTL:P3D
REFRESH-INTERVAL:P3D
CALSCALE:GREGORIAN
BEGIN:VEVENT
DTSTART:20120722T010000Z
DTEND:20120722T040000Z
X-MICROSOFT-CDO-ALLDAYEVENT:FALSE
SUMMARY:Star Gazing
DESCRIPTION:Star Gaze with the Northern Cross Science Foundation Astronomy Club!\n\n\n\nView Mars and Saturn\, nebulas\, star clusters\, galaxies and the Moon!  Event will be held at the campground dump station off of Powder Hill Road.
X-ALT-DESC;FMTTYPE=text/html:<br />\n<em><span style="font-size:14px\;">Star Gaze with the Northern Cross Science Foundation Astronomy Club!</span></em><br />\n<br />\n<span style="font-size:14px\;">View Mars and Saturn\, nebulas\, star clusters\, galaxies and the Moon!&nbsp\; Event will be held at the campground dump station off of Powder Hill Road.</span>
LOCATION:Pike Lake State Park - event at campground dump station off of Powder Hill Road.
UID:e.898.1559
SEQUENCE:3
DTSTAMP:20260420T045709Z
URL:https://business.hartfordareachamber.org/events/details/star-gazing-07-21-2012-1559
END:VEVENT

END:VCALENDAR
