BEGIN:VCALENDAR
VERSION:2.0
PRODID:-//ChamberMaster//Event Calendar 2.0//EN
METHOD:PUBLISH
X-PUBLISHED-TTL:P3D
REFRESH-INTERVAL:P3D
CALSCALE:GREGORIAN
BEGIN:VEVENT
DTSTART:20120819T010000Z
DTEND:20120819T040000Z
X-MICROSOFT-CDO-ALLDAYEVENT:FALSE
SUMMARY:Star Gazing
DESCRIPTION:Star Gazing\n\n\n\nStar Gaze with the\n\nNorthern Cross Science Foundation Astronomy Club!\n\n\n\nView Mars and Saturn\, nebulas\, star clusters\, galaxies and the Moon!  Event will be held at the campground dump station off of Powder Hill Road.
X-ALT-DESC;FMTTYPE=text/html:<strong><span style="font-size:18px\;">Star Gazing</span></strong><br />\n<br />\n<em><span style="font-size:14px\;">Star Gaze with the<br />\nNorthern Cross Science Foundation Astronomy Club!</span></em><br />\n<br />\n<span style="font-size:14px\;">View Mars and Saturn\, nebulas\, star clusters\, galaxies and the Moon!&nbsp\; Event will be held at the campground dump station off of Powder Hill Road.</span>
LOCATION:Pike Lake State Park At campground dump station off Powder Hill Road.
UID:e.898.1563
SEQUENCE:3
DTSTAMP:20260420T032831Z
URL:https://business.hartfordareachamber.org/events/details/star-gazing-08-18-2012-1563
END:VEVENT

END:VCALENDAR
