BEGIN:VCALENDAR
VERSION:2.0
PRODID:-//ChamberMaster//Event Calendar 2.0//EN
METHOD:PUBLISH
X-PUBLISHED-TTL:P3D
REFRESH-INTERVAL:P3D
CALSCALE:GREGORIAN
BEGIN:VEVENT
DTSTART:20140409T000000Z
DTEND:20140409T013000Z
X-MICROSOFT-CDO-ALLDAYEVENT:FALSE
SUMMARY:STONES THAT WALKED: EASTER ISLAND ODYSSEY presented by Ralph Gebhard
DESCRIPTION:World traveler Ralph Gebhard will transport you thousands of miles away.\n\n\n\nBring nothing but your curiosity as you explore the mystery surrounding Easter Island complete with photographs of this unique destination.\n\n\n\nSponsored by the Hartford Public Library and Friends of the Hartford Library
X-ALT-DESC;FMTTYPE=text/html:World traveler Ralph Gebhard will transport you thousands of miles away.<br />\n<br />\nBring nothing but your curiosity as you explore the mystery surrounding Easter Island complete with photographs of this unique destination.<br />\n<br />\nSponsored by the Hartford Public Library and Friends of the Hartford Library
LOCATION:Jack Russell Memorial Library Community Room 100 Park Ave. Hartford\, WI
UID:e.898.3078
SEQUENCE:3
DTSTAMP:20260421T090113Z
URL:https://business.hartfordareachamber.org/events/details/stones-that-walked-easter-island-odyssey-presented-by-ralph-gebhard-04-08-2014-3078
END:VEVENT

END:VCALENDAR
