BEGIN:VCALENDAR
VERSION:2.0
PRODID:-//ChamberMaster//Event Calendar 2.0//EN
METHOD:PUBLISH
X-PUBLISHED-TTL:P3D
REFRESH-INTERVAL:P3D
CALSCALE:GREGORIAN
BEGIN:VEVENT
DTSTART:20190506T233000Z
DTEND:20190507T013000Z
X-MICROSOFT-CDO-ALLDAYEVENT:FALSE
SUMMARY:Suicide Awareness and Prevention Training Program
DESCRIPTION:Divine Savior Lutheran Church\, 3200 Hwy. K South\, Hartford\, WI\n\nMonday\, May 6\, 2019\; 6:30 pm\n\nFree\n\nLed by "Life of Hope" instructors\, the program teaches how to identify behaviors and warning signs of suicide and specific steps to respond for life-saving intervention. For more information\, go to the Life of Hope website at http://lifeofhopeproject.org/programs/education/ or contact Divine Savior at 262-673-5140 or infodivinesavior@gmail.com.
X-ALT-DESC;FMTTYPE=text/html:<p>Divine Savior Lutheran Church\, 3200 Hwy. K South\, Hartford\, WI<br />\nMonday\, May 6\, 2019\; 6:30 pm</p>\n\n<p>Free</p>\n\n<p>Led by &quot\;Life of Hope&quot\; instructors\, the program teaches how to identify behaviors and warning signs of suicide and specific steps to respond for life-saving intervention. For more information\, go to the Life of Hope website at <a href="http://lifeofhopeproject.org/programs/education/" rel="noreferrer" target="_blank">http://lifeofhopeproject.org/programs/education/</a> or contact Divine Savior at 262-673-5140 or <a class="moz-txt-link-abbreviated" href="mailto:infodivinesavior@gmail.com">infodivinesavior@gmail.com</a>.</p>\n
LOCATION:Divine Savior Lutheran Church\, 3200 Highway K South\, Hartford\, WI
UID:e.898.5907
SEQUENCE:3
DTSTAMP:20260419T164237Z
URL:https://business.hartfordareachamber.org/events/details/suicide-awareness-and-prevention-training-program-5907
END:VEVENT

END:VCALENDAR
