BEGIN:VCALENDAR
VERSION:2.0
PRODID:-//ChamberMaster//Event Calendar 2.0//EN
METHOD:PUBLISH
X-PUBLISHED-TTL:P3D
REFRESH-INTERVAL:P3D
CALSCALE:GREGORIAN
BEGIN:VEVENT
DTSTART:20150417T210000Z
DTEND:20150418T010000Z
X-MICROSOFT-CDO-ALLDAYEVENT:FALSE
SUMMARY:T-SHIRT Sale
DESCRIPTION:T-SHIRT Sale\n\nKeylogo\n\n\n\nFriday\, April 17\n\n4-8 pm\n\n\n\nWashington County Fair Park\n\nZiegler Building\n\n\n\nT-Shirts\, Polos\, Sweatshirts\, Jackets\, Hats & much more!\n\nMany sizes & colors to choose from. Priced to sell.  \n\n\n\nClick HERE for the flyer.
X-ALT-DESC;FMTTYPE=text/html:<strong><span style="font-size:22px\;">T-SHIRT Sale</span></strong><br />\n<span style="font-size:18px\;">Keylogo</span><br />\n<br />\nFriday\, April 17<br />\n4-8 pm<br />\n<br />\nWashington County Fair Park<br />\nZiegler Building<br />\n<br />\nT-Shirts\, Polos\, Sweatshirts\, Jackets\, Hats &amp\; much more!<br />\nMany sizes &amp\; colors to choose from. Priced to sell.&nbsp\;&nbsp\;<br />\n<br />\nClick <a href="http://cloud.chambermaster.com/userfiles/UserFiles/chambers/898/File/flyer-KeyLogoT-SHIRTsaleflyer.pdf" target="_blank">HERE</a> for the flyer.&nbsp\;
LOCATION:Washington County Fair Park Ziegler Building 3000 Pleasant Valley Road West Bend\, WI 5 3095
UID:e.898.3395
SEQUENCE:3
DTSTAMP:20260420T140315Z
URL:https://business.hartfordareachamber.org/events/details/t-shirt-sale-04-17-2015-3395
END:VEVENT

END:VCALENDAR
