BEGIN:VCALENDAR
VERSION:2.0
PRODID:-//ChamberMaster//Event Calendar 2.0//EN
METHOD:PUBLISH
X-PUBLISHED-TTL:P3D
REFRESH-INTERVAL:P3D
CALSCALE:GREGORIAN
BEGIN:VEVENT
DTSTART:20130516T000000Z
DTEND:20130516T020000Z
X-MICROSOFT-CDO-ALLDAYEVENT:FALSE
SUMMARY:TALKING DIRT with The Hartford Garden Club
DESCRIPTION:TALKING DIRT with The Hartford Garden Club\n\n	\n\n	Beautiful gardens and potted plants start with healthy soil. Join Leslie Ashford of The Hartford Garden Club to learn about soil testing\, fertilization\, and lasagna gardening just in time for gardening season.\n\n	Presented by the Hartford Public Library and Friends of the Library \n\n	Hospitality time at 6:30 PM\n\n\nst1\\:*{behavior:url(#ieooui) }
X-ALT-DESC;FMTTYPE=text/html:<p class="MsoNormal">\n	<span style="font-size: 12px\;"><b><span style="font-family: Arial\;"><span style="font-size: 14px\;">TALKING DIRT with The Hartford Garden Club</span><br />\n	<br />\n	Beautiful gardens and potted plants start with healthy soil. Join Leslie Ashford of The </span></b><b><span style="font-family: Arial\;">Hartford</span></b><b><span style="font-family: Arial\;"> </span></b><b><span style="font-family: Arial\;">Garden</span></b><b><span style="font-family: Arial\;"> Club to learn about soil testing\, fertilization\, and lasagna gardening just in time for gardening season.</span></b></span></p>\n<p class="MsoNormal">\n	<span style="font-size: 12px\;"><b><span style="font-family: Arial\;">Presented by the </span></b><b><span style="font-family: Arial\;">Hartford</span></b><b><span style="font-family: Arial\;"> Public Library and Friends of the Library </span></b></span><br />\n	<span style="font-size: 12px\;"><b><span style="font-family: Arial\;">Hospitality time at 6:30 PM</span></b></span></p>\n<span style="font-size: 12px\;"><object classid="clsid:38481807-CA0E-42D2-BF39-B33AF135CC4D" id="ieooui"></object></span>\n<style type="text/css">\nst1\\:*{behavior:url(#ieooui) }</style>\n
LOCATION:Community Room Jack Russell Memorial Library 100 Park Ave. Hartford\, WI
UID:e.898.1818
SEQUENCE:3
DTSTAMP:20260419T135958Z
URL:https://business.hartfordareachamber.org/events/details/talking-dirt-with-the-hartford-garden-club-05-15-2013-1818
END:VEVENT

END:VCALENDAR
