BEGIN:VCALENDAR
VERSION:2.0
PRODID:-//ChamberMaster//Event Calendar 2.0//EN
METHOD:PUBLISH
X-PUBLISHED-TTL:P3D
REFRESH-INTERVAL:P3D
CALSCALE:GREGORIAN
BEGIN:VEVENT
DTSTART:20130425T000000Z
DTEND:20130425T020000Z
X-MICROSOFT-CDO-ALLDAYEVENT:FALSE
SUMMARY:TALKING TRASH with Advanced Disposal (formerly VEOLIA)
DESCRIPTION:The Hartford Public Library and Friends of the Library  present\n\n	TALKING TRASH with Advanced Disposal (formerly VEOLIA)\nWhere do all those recyclables go? Are we doing the best we can? Advanced Disposal personnel will track your trash and give you an insider's look at what we use and what we waste.\n\n\n\n\n\nst1\\:*{behavior:url(#ieooui) }
X-ALT-DESC;FMTTYPE=text/html:<p class="MsoNormal">\n	<b style="mso-bidi-font-weight: normal\;"><span style="font-size: 14pt\;">The </span></b><b style="mso-bidi-font-weight: normal\;"><span style="font-size: 14pt\;">Hartford</span></b><b style="mso-bidi-font-weight: normal\;"><span style="font-size: 14pt\;"> Public Library and Friends of the Library&nbsp\; present</span></b></p>\n<p class="MsoNormal">\n	<b><span style="font-size: 14pt\;">TALKING TRASH with </span></b><b style="mso-bidi-font-weight: normal\;"><span style="font-size: 14pt\;">Advanced Disposal (formerly VEOLIA)</span></b></p>\n<b style="mso-bidi-font-weight: normal\;"><span style="font-family: &quot\;Times New Roman&quot\;\; font-size: 14pt\; mso-fareast-font-family: &quot\;Times New Roman&quot\;\; mso-ansi-language: EN-US\; mso-fareast-language: AR-SA\; mso-bidi-language: AR-SA\;">Where do all those recyclables go? Are we doing the best we can? Advanced Disposal personnel will track your trash and give you an insider&rsquo\;s look at what we use and what we waste.</span></b><br style="mso-special-character: line-break\;" />\n<br style="mso-special-character: line-break\;" />\n<object classid="clsid:38481807-CA0E-42D2-BF39-B33AF135CC4D" id="ieooui"></object>\n<style type="text/css">\nst1\\:*{behavior:url(#ieooui) }</style>\n
LOCATION:Jack Russell Memorial Library 100 Park Ave. Hartford\, WI 53027
UID:e.898.1782
SEQUENCE:3
DTSTAMP:20260419T150219Z
URL:https://business.hartfordareachamber.org/events/details/talking-trash-with-advanced-disposal-formerly-veolia-04-24-2013-1782
END:VEVENT

END:VCALENDAR
