BEGIN:VCALENDAR
VERSION:2.0
PRODID:-//ChamberMaster//Event Calendar 2.0//EN
METHOD:PUBLISH
X-PUBLISHED-TTL:P3D
REFRESH-INTERVAL:P3D
CALSCALE:GREGORIAN
BEGIN:VEVENT
DTSTART:20130502T223000Z
DTEND:20130503T013000Z
X-MICROSOFT-CDO-ALLDAYEVENT:FALSE
SUMMARY:Tax Deductions for Small Business
DESCRIPTION:Tax Deductions for Small Business\n\n\n\nA 3 hour class dedicated to maximizing your net profits and understand what a legal deduction is and what is not\, for small businesses.
X-ALT-DESC;FMTTYPE=text/html:<strong><span style="font-size: 14px\;">Tax Deductions for Small Business</span></strong><br />\n<br />\nA 3 hour class dedicated to maximizing your net profits and understand what a legal deduction is and what is not\, for small businesses.
LOCATION:Moraine Park Technical College - Beaver Dam Campus 700 Gould Street\, Beaver Dam
UID:e.898.1791
SEQUENCE:3
DTSTAMP:20260422T043518Z
URL:https://business.hartfordareachamber.org/events/details/tax-deductions-for-small-business-05-02-2013-1791
END:VEVENT

END:VCALENDAR
