BEGIN:VCALENDAR
VERSION:2.0
PRODID:-//ChamberMaster//Event Calendar 2.0//EN
METHOD:PUBLISH
X-PUBLISHED-TTL:P3D
REFRESH-INTERVAL:P3D
CALSCALE:GREGORIAN
BEGIN:VEVENT
DTSTART:20130717T223000Z
DTEND:20130718T013000Z
X-MICROSOFT-CDO-ALLDAYEVENT:FALSE
SUMMARY:Tax Deductions for Small Business
DESCRIPTION:CRN #10216\n\n	Maximize your net profits and understand what a legal deduction is and what is not. Participants will learn to capture legal business deductions available to small business while avoiding the typical mistakes that are the downfall of many entrepreneurial ventures.
X-ALT-DESC;FMTTYPE=text/html:<p class="MsoNormal" style="margin: 0in 0in 0pt\;">\n	<font size="3"><font color="#000000"><font face="Calibri">CRN #10216<o:p></o:p></font></font></font></p>\n<p class="MsoNormal" style="margin: 0in 0in 10pt\;">\n	<font size="3"><font color="#000000"><font face="Calibri">Maximize your net profits and understand what a legal deduction is and what is not. Participants will learn to capture legal business deductions available to small business while avoiding the typical mistakes that are the downfall of many entrepreneurial ventures.<o:p></o:p></font></font></font></p>\n
LOCATION:Moraine Park Technical College / West Bend Campus
UID:e.898.1851
SEQUENCE:3
DTSTAMP:20260422T010059Z
URL:https://business.hartfordareachamber.org/events/details/tax-deductions-for-small-business-07-17-2013-1851
END:VEVENT

END:VCALENDAR
