BEGIN:VCALENDAR
VERSION:2.0
PRODID:-//ChamberMaster//Event Calendar 2.0//EN
METHOD:PUBLISH
X-PUBLISHED-TTL:P3D
REFRESH-INTERVAL:P3D
CALSCALE:GREGORIAN
BEGIN:VEVENT
DTSTART:20120913T130000Z
DTEND:20120914T210000Z
X-MICROSOFT-CDO-ALLDAYEVENT:FALSE
SUMMARY:Tent Sale - JL Business Interiors
DESCRIPTION:JL Business Interiors Inc.\n\npresents\n\n\n\n 5th AnnualTent Sale\n\n\n\nSeptember 13 & 14th\n\n8 AM to 4 PM\n\n\n\nAmazing Deals on Quality Used Furniture!!\n\n\n\nConference tables staring at $99\n\nDesks starting at $59\n\nVertical Files starting at $39\n\n\n\nEnter to WIN a $50 Gas Card\n\nDrawing 1 winner each day of the sale\n\n\n\nNo purchase necessary to win!
X-ALT-DESC;FMTTYPE=text/html:<span style="font-size:14px\;"><strong>JL Business Interiors Inc.</strong></span><br />\npresents<br />\n<br />\n<span style="font-size:16px\;"><strong> <span style="font-size:18px\;">5th AnnualTent Sale</span></strong></span><br />\n<br />\n<span style="font-size:16px\;"><strong>September 13 &amp\; 14th<br />\n8 AM to 4 PM</strong></span><br />\n<br />\nAmazing Deals on Quality Used Furniture!!<br />\n<br />\nConference tables staring at $99<br />\nDesks starting at $59<br />\nVertical Files starting at $39<br />\n<br />\nEnter to WIN a $50 Gas Card<br />\nDrawing 1 winner each day of the sale<br />\n<br />\nNo purchase necessary to win!
LOCATION:515 Schoenhaar Drive West Bend 262-338-2221
UID:e.898.1599
SEQUENCE:3
DTSTAMP:20260422T180425Z
URL:https://business.hartfordareachamber.org/events/details/tent-sale-jl-business-interiors-09-13-2012-1599
END:VEVENT

END:VCALENDAR
