BEGIN:VCALENDAR
VERSION:2.0
PRODID:-//ChamberMaster//Event Calendar 2.0//EN
METHOD:PUBLISH
X-PUBLISHED-TTL:P3D
REFRESH-INTERVAL:P3D
CALSCALE:GREGORIAN
BEGIN:VEVENT
DTSTART:20130110T010000Z
DTEND:20130110T030000Z
X-MICROSOFT-CDO-ALLDAYEVENT:FALSE
SUMMARY:The Clutter Coach\, Kathi Miller\; Living Better With Less Without Feeling Deprive
DESCRIPTION:Gain a new perspective on de-cluttering\, one which goes beyond cleaning out drawers to reconsidering your relationship to your belongings.  Let professional Clutter Coach Kathi Miller show you simple strategies for living a more sustainable\, earth-friendly life in this fast-paced\, enjoyable program.
X-ALT-DESC;FMTTYPE=text/html:<b style="mso-bidi-font-weight: normal\;"><span style="font-family: &quot\;times new roman&quot\;\; font-size: 14pt\; mso-fareast-font-family: &quot\;times new roman&quot\;\; mso-ansi-language: en-us\; mso-fareast-language: en-us\; mso-bidi-language: ar-sa\;">Gain a new perspective on de-cluttering\, one which goes beyond cleaning out drawers to reconsidering your relationship to your belongings.&nbsp\; Let professional Clutter Coach Kathi Miller show you simple strategies for living a more sustainable\, earth-friendly life in this fast-paced\, enjoyable program.<br style="mso-special-character: line-break\;" />\n<br style="mso-special-character: line-break\;" />\n</span></b>
LOCATION:Jack Russel Memorial Library 100 Park Ave. Hartford\, WI 53027
UID:e.898.1713
SEQUENCE:3
DTSTAMP:20260422T112850Z
URL:https://business.hartfordareachamber.org/events/details/the-clutter-coach-kathi-miller-living-better-with-less-without-feeling-deprive-01-09-2013-1713
END:VEVENT

END:VCALENDAR
