BEGIN:VCALENDAR
VERSION:2.0
PRODID:-//ChamberMaster//Event Calendar 2.0//EN
METHOD:PUBLISH
X-PUBLISHED-TTL:P3D
REFRESH-INTERVAL:P3D
CALSCALE:GREGORIAN
BEGIN:VEVENT
DTSTART:20161020T180000Z
DTEND:20161020T210000Z
X-MICROSOFT-CDO-ALLDAYEVENT:FALSE
SUMMARY:The Dementia and Aging Crisis: The Cost to Our Community
DESCRIPTION:A Summit to Understand the Challenges before the Crisis. Guest speakers: Former Wisconsin Governor Martin Schreiber and Tom Hlavacek\, Executive Director of the Alzheimer's Association. Free event - Registration required.
X-ALT-DESC;FMTTYPE=text/html:A Summit to Understand the Challenges before the Crisis. Guest speakers: Former Wisconsin Governor Martin Schreiber and Tom Hlavacek\, Executive Director of the Alzheimer&#39\;s Association. Free event - Registration required.
LOCATION:Old Hickory Golf Club W7596 State Road 33 Beaver Dam\, WI
UID:e.898.3760
SEQUENCE:3
DTSTAMP:20260421T191709Z
URL:https://business.hartfordareachamber.org/events/details/the-dementia-and-aging-crisis-the-cost-to-our-community-3760
END:VEVENT

END:VCALENDAR
