BEGIN:VCALENDAR
VERSION:2.0
PRODID:-//ChamberMaster//Event Calendar 2.0//EN
METHOD:PUBLISH
X-PUBLISHED-TTL:P3D
REFRESH-INTERVAL:P3D
CALSCALE:GREGORIAN
BEGIN:VEVENT
DTSTART:20120510T233000Z
DTEND:20120511T013000Z
X-MICROSOFT-CDO-ALLDAYEVENT:FALSE
SUMMARY:The Native Gardner: Ho Chunk Corn Workshop with Rhonda Funmaker
DESCRIPTION:Bear Clan member Rhonda Funmaker is a traditional Ho Chunk gardener and cook. Rhonda specializes in organic gardening\, natural cooking and preserving such foods as corn\, squash\, beans\, berries\, buffalo\, and breads and is dedicated to promoting and protecting knowledge of traditional Ho Chunk ways passed on to her by earlier generations.\n\n\n\nJoin Rhonda in a hands on workshop at the Washington County Historical Society on May 10\, 2012 from 6:30pm to 8:30pm to learn about traditional methods and the significance of corn to the Ho Chunk people. You will get to taste of traditional corn pudding and hear about dishes made with corn and grind a sample of your own to take home!\n\n\n\nThe Society member fee for this event is $10 per person\, the non-members fee is $15 per person. Registration is required for this program as space is limited. Please call 262-335-4678 to reserve your spot!
X-ALT-DESC;FMTTYPE=text/html:Bear Clan member Rhonda Funmaker is a traditional Ho Chunk gardener and cook. Rhonda specializes in organic gardening\, natural cooking and preserving such foods as corn\, squash\, beans\, berries\, buffalo\, and breads and is dedicated to promoting and protecting knowledge of traditional Ho Chunk ways passed on to her by earlier generations.<br />\n<br />\nJoin Rhonda in a hands on workshop at the Washington County Historical Society on May 10\, 2012 from 6:30pm to 8:30pm to learn about traditional methods and the significance of corn to the Ho Chunk people. You will get to taste of traditional corn pudding and hear about dishes made with corn and grind a sample of your own to take home!<br />\n<br />\nThe Society member fee for this event is $10 per person\, the non-members fee is $15 per person. Registration is required for this program as space is limited. Please call 262-335-4678 to reserve your spot!<br />\n
LOCATION:Old Courthouse Museum 320 S 5th Ave West Bend\, WI 53095
UID:e.898.839
SEQUENCE:3
DTSTAMP:20260423T002941Z
URL:https://business.hartfordareachamber.org/events/details/the-native-gardner-ho-chunk-corn-workshop-with-rhonda-funmaker-05-10-2012-839
END:VEVENT

END:VCALENDAR
