BEGIN:VCALENDAR
VERSION:2.0
PRODID:-//ChamberMaster//Event Calendar 2.0//EN
METHOD:PUBLISH
X-PUBLISHED-TTL:P3D
REFRESH-INTERVAL:P3D
CALSCALE:GREGORIAN
BEGIN:VEVENT
DTSTART:20140319T000000Z
DTEND:20140319T013000Z
X-MICROSOFT-CDO-ALLDAYEVENT:FALSE
SUMMARY:Therapy Dogs\, Service Dogs with Joan Adler and her dog Smitty
DESCRIPTION:Meet Smitty\, a lab/golden retriever mix\, and his handler Joan Adler.\n\n\n\nThe twosome will demonstrate the tasks service dogs do for people with physical disabilities and the training that is required.
X-ALT-DESC;FMTTYPE=text/html:Meet Smitty\, a lab/golden retriever mix\, and his handler Joan Adler.<br />\n<br />\nThe twosome will demonstrate the tasks service dogs do for people with physical disabilities and the training that is required.
LOCATION:Jack Russell Memorial Library Community Room 100 Park Ave. Hartford\, WI
UID:e.898.3062
SEQUENCE:3
DTSTAMP:20260421T121137Z
URL:https://business.hartfordareachamber.org/events/details/therapy-dogs-service-dogs-with-joan-adler-and-her-dog-smitty-03-18-2014-3062
END:VEVENT

END:VCALENDAR
