BEGIN:VCALENDAR
VERSION:2.0
PRODID:-//ChamberMaster//Event Calendar 2.0//EN
METHOD:PUBLISH
X-PUBLISHED-TTL:P3D
REFRESH-INTERVAL:P3D
CALSCALE:GREGORIAN
BEGIN:VEVENT
DTSTART:20140529T213000Z
DTEND:20140530T040000Z
X-MICROSOFT-CDO-ALLDAYEVENT:FALSE
SUMMARY:Thirsty Thursday
DESCRIPTION:The Volunteer Center of Washington County has been chosen as this month's recipient of House of Heileman's\, "Thursday's for a Cause".\n\n\n\nCome dressed in your super hero gear and the first drink is free!!
X-ALT-DESC;FMTTYPE=text/html:<p><br />\n<br />\nThe<span style="font-size: 14px\;"><strong> Volunteer Center of Washington County </strong></span>has been chosen as this month&#39\;s recipient of House of Heileman&#39\;s\, &quot\;Thursday&#39\;s for a Cause&quot\;.<br />\n<br />\nCome dressed in your super hero gear and the first drink is free!!</p>\n
LOCATION:House of Heileman's 5723 West Lake Drive West Bend\, WI 53095 Big Cedar Lake
UID:e.898.3121
SEQUENCE:3
DTSTAMP:20260419T210146Z
URL:https://business.hartfordareachamber.org/events/details/thirsty-thursday-05-29-2014-3121
END:VEVENT

END:VCALENDAR
