BEGIN:VCALENDAR
VERSION:2.0
PRODID:-//ChamberMaster//Event Calendar 2.0//EN
METHOD:PUBLISH
X-PUBLISHED-TTL:P3D
REFRESH-INTERVAL:P3D
CALSCALE:GREGORIAN
BEGIN:VEVENT
DTSTART:20140712T180000Z
DTEND:20140713T230000Z
X-MICROSOFT-CDO-ALLDAYEVENT:FALSE
SUMMARY:Toadally Natural Garden Annual Party
DESCRIPTION:Toadally Natural Garden Annual Party\n\n\n\nFeaturing a Wokini "Happiness" Feast and Special Tribute to Veterans\n\n\n\nFREE Clothing Optional Event\n\n\n\nJoin our host Herb as he guides us on an adventure back into the 1800's.\n\n\n	Kayak Racing\n	Native Flute\n	Drumming\n	Hawk (axe) Throwing\n	Food and Non-Alcoholic Drinks\n\n\nAvailable overnight primitive tent camping spots or rent a Tee Pee.\n\n\n\nVeterans. "Thanks For The Freedom" collection for Hartford Post 8834  "Fisher House" initiative\n\n\n\nAdvance Registration Required by July 7\, 2014\n\nVisit www.toadallynatura.com for happenings and online registration.
X-ALT-DESC;FMTTYPE=text/html:<p><strong><span style="font-size: 14px\;">Toadally Natural Garden Annual Party</span></strong><br />\n<br />\nFeaturing a Wokini &quot\;Happiness&quot\; Feast and Special Tribute to Veterans<br />\n<br />\nFREE Clothing Optional Event<br />\n<br />\nJoin our host Herb as he guides us on an adventure back into the 1800&#39\;s.</p>\n\n<ul>\n	<li>Kayak Racing</li>\n	<li>Native Flute</li>\n	<li>Drumming</li>\n	<li>Hawk (axe) Throwing</li>\n	<li>Food and Non-Alcoholic Drinks</li>\n</ul>\n\n<p>Available overnight primitive tent camping spots or rent a Tee Pee.<br />\n<br />\nVeterans. &quot\;Thanks For The Freedom&quot\; collection for&nbsp\;Hartford Post 8834&nbsp\; &quot\;Fisher House&quot\; initiative<br />\n<br />\nAdvance Registration Required by July 7\, 2014<br />\nVisit <a href="http://www.toadallynatura.com">www.toadallynatura.com</a> for happenings and online registration.</p>\n
LOCATION:6601 County Road K Hartford\, WI 53027
UID:e.898.3140
SEQUENCE:3
DTSTAMP:20260421T031237Z
URL:https://business.hartfordareachamber.org/events/details/toadally-natural-garden-annual-party-07-12-2014-3140
END:VEVENT

END:VCALENDAR
