BEGIN:VCALENDAR
VERSION:2.0
PRODID:-//ChamberMaster//Event Calendar 2.0//EN
METHOD:PUBLISH
X-PUBLISHED-TTL:P3D
REFRESH-INTERVAL:P3D
CALSCALE:GREGORIAN
BEGIN:VEVENT
DTSTART:20130713T160000Z
DTEND:20130715T020000Z
X-MICROSOFT-CDO-ALLDAYEVENT:FALSE
SUMMARY:Toadally Natural Garden annual picnic and skinny dip
DESCRIPTION:Second annual \n\n	Toadally Natural Garden Picnic &\n\n	Skinny Dip\n\n	This year's theme Hawaiian\n\n	The Main event: World record skinny dip. All participants must be present @ 12 noon to be counted a photo release will be required to qualify.\n\n	Beach volley ball matches will start after photo shoot along with garden tours and other beach activities.\n\n	Hawaiian Barbeque (A dish to pass is appreciated)(BYOB)\n\n	Body art contest Guess will Judge the best paint and tattoos\n\n	Bon fire @ the beach\n\n	Camping available
X-ALT-DESC;FMTTYPE=text/html:<p class="MsoNormal">\n	<span style="font-size: 14px\;"><strong>Second annual<span style="mso-spacerun: yes\;">&nbsp\;<br />\n	Toadally Natural Garden Picnic &amp\;<br />\n	Skinny Dip</span></strong></span></p>\n<p class="MsoNormal">\n	This year&rsquo\;s theme Hawaiian</p>\n<p class="MsoNormal">\n	The Main event: World record skinny dip. All participants must be present @ 12 noon to be counted a photo release will be required to qualify.</p>\n<p class="MsoNormal">\n	Beach volley ball matches will start after photo shoot along with garden tours and other beach activities.</p>\n<p class="MsoNormal">\n	Hawaiian Barbeque (A dish to pass is appreciated)(BYOB)</p>\n<p class="MsoNormal">\n	Body art contest Guess will Judge the best paint and tattoos</p>\n<p class="MsoNormal">\n	Bon fire @ the beach</p>\n<p class="MsoNormal">\n	Camping available</p>\n
LOCATION:6601 CR K Hartford WI 53027
UID:e.898.2571
SEQUENCE:3
DTSTAMP:20260422T010427Z
URL:https://business.hartfordareachamber.org/events/details/toadally-natural-garden-annual-picnic-and-skinny-dip-07-13-2013-2571
END:VEVENT

END:VCALENDAR
