BEGIN:VCALENDAR
VERSION:2.0
PRODID:-//ChamberMaster//Event Calendar 2.0//EN
METHOD:PUBLISH
X-PUBLISHED-TTL:P3D
REFRESH-INTERVAL:P3D
CALSCALE:GREGORIAN
BEGIN:VEVENT
DTSTART:20120414T200000Z
DTEND:20120414T210000Z
X-MICROSOFT-CDO-ALLDAYEVENT:FALSE
SUMMARY:Tony Orlando
DESCRIPTION:One of America's most enduring singers and television starts\, Tony performs his hits which include Knock Three Times\, Candida\, Sweet Gypsy Rost\, and Tie A Yellow Ribbon 'Round The Ole Oak Tree.
X-ALT-DESC;FMTTYPE=text/html:One of America&#39\;s most enduring singers and television starts\, Tony performs his hits which include Knock Three Times\, Candida\, Sweet Gypsy Rost\, and Tie A Yellow Ribbon &#39\;Round The Ole Oak Tree.
LOCATION:Schauer Arts Center
UID:e.898.576
SEQUENCE:3
DTSTAMP:20260423T020426Z
URL:https://business.hartfordareachamber.org/events/details/tony-orlando-04-14-2012-576
END:VEVENT

END:VCALENDAR
