BEGIN:VCALENDAR
VERSION:2.0
PRODID:-//ChamberMaster//Event Calendar 2.0//EN
METHOD:PUBLISH
X-PUBLISHED-TTL:P3D
REFRESH-INTERVAL:P3D
CALSCALE:GREGORIAN
BEGIN:VEVENT
DTSTART:20130601T140000Z
DTEND:20130601T200000Z
X-MICROSOFT-CDO-ALLDAYEVENT:FALSE
SUMMARY:Tour De Marsh
DESCRIPTION:Tour De Marsh\n\nat Horicon Marsh\n\nSaturday\, June 1\n\n9 am - 3 pm\n\n\n\nGet your friends and family together and come to Tour De Marsh at Horicon Marsh. Join bicyclists\, hikers\, motorcyclists and autos touring around and through the famous Horicon Marsh.  Named one of the "Seven Wonders of Wisconsin" and a\n\nWetland of International importance"\, seeing and experiencing Horicon Marsh is a great opportunity to enjoy one of nature's treasures. \n\n\n\nThere is no entry fee and it is open to Everyone!
X-ALT-DESC;FMTTYPE=text/html:<span style="font-size: 14px\;"><strong>Tour De Marsh</strong></span><br />\nat Horicon Marsh<br />\nSaturday\, June 1<br />\n9 am - 3 pm<br />\n<br />\nGet your friends and family together and come to Tour De Marsh at Horicon Marsh. Join bicyclists\, hikers\, motorcyclists and autos touring around and through the famous Horicon Marsh.&nbsp\; Named one of the &quot\;Seven Wonders of Wisconsin&quot\; and a<br />\nWetland of International importance&quot\;\, seeing and experiencing Horicon Marsh is a great opportunity to enjoy one of nature&#39\;s treasures.&nbsp\;<br />\n<br />\nThere is no entry fee and it is open to <em>Everyone!&nbsp\;</em>
LOCATION:Horicon Marsh
UID:e.898.1808
SEQUENCE:3
DTSTAMP:20260419T120858Z
URL:https://business.hartfordareachamber.org/events/details/tour-de-marsh-06-01-2013-1808
END:VEVENT

END:VCALENDAR
