BEGIN:VCALENDAR
VERSION:2.0
PRODID:-//ChamberMaster//Event Calendar 2.0//EN
METHOD:PUBLISH
X-PUBLISHED-TTL:P3D
REFRESH-INTERVAL:P3D
CALSCALE:GREGORIAN
BEGIN:VEVENT
DTSTART:20130506T170000Z
DTEND:20130506T180000Z
X-MICROSOFT-CDO-ALLDAYEVENT:FALSE
SUMMARY:Tourism Luncheon
DESCRIPTION:National Travel & Tourism\n\nWeek May 4-12\, 2013\n\nLuncheon\n\n\n\nMonday\, May 6\, 2013\n\nNoon - 1:00 pm\n\nOld Hickory Golf Club\n\nW7596 Highway 33 (just east of Beaver Dam)\n\n\n\nFeaturing\n\nLola Roeh\n\nGM of the Osthoff Resort\, Elkhart Lake\n\nMember of the Governor's Council on Tourism\n\n\n\nClick here for the invitation!\n\n\n\nA collaborative event brought to you by:\n\nBeaver Dam Rotary Club\n\nDiscover Dodge\n\nBeaver Dam Chamber of Commerce
X-ALT-DESC;FMTTYPE=text/html:<span style="font-size:18px\;"><strong>National Travel &amp\; Tourism<br />\nWeek <span style="font-size:12px\;">May 4-12\, 2013</span><br />\nLuncheon</strong></span><br />\n<br />\n<strong><span style="font-size:16px\;">Monday\, May 6\, 2013</span><br />\nNoon - 1:00 pm</strong><br />\nOld Hickory Golf Club<br />\nW7596 Highway 33 (just east of Beaver Dam)<br />\n<br />\nFeaturing<br />\n<span style="font-size:16px\;"><strong>Lola Roeh</strong></span><br />\n<strong><span style="font-size:14px\;">GM of the Osthoff Resort\, Elkhart Lake</span></strong><br />\nMember of the Governor&#39\;s Council on Tourism<br />\n<br />\n<a href="http://cloud.chambermaster.com/userfiles/UserFiles/chambers/898/File/invite-2013TourismWeekLuncheon.pdf">Click here for the invitation!</a><br />\n<br />\n<em>A collaborative event brought to you by:</em><br />\nBeaver Dam Rotary Club<br />\nDiscover Dodge<br />\nBeaver Dam Chamber of Commerce<br />\n
LOCATION:Monday\, May 6\, 2013 Noon - 1:00 pm Old Hickory Golf Club W7596 Highway 33 (just east of Beaver Dam)
UID:e.898.1800
SEQUENCE:3
DTSTAMP:20260422T043332Z
URL:https://business.hartfordareachamber.org/events/details/tourism-luncheon-05-06-2013-1800
END:VEVENT

END:VCALENDAR
