BEGIN:VCALENDAR
VERSION:2.0
PRODID:-//ChamberMaster//Event Calendar 2.0//EN
METHOD:PUBLISH
X-PUBLISHED-TTL:P3D
REFRESH-INTERVAL:P3D
CALSCALE:GREGORIAN
BEGIN:VEVENT
DTSTART:20141026T220000Z
DTEND:20141027T000000Z
X-MICROSOFT-CDO-ALLDAYEVENT:FALSE
SUMMARY:Trick or Treat-Hartford
DESCRIPTION:City of Hartford\n\nTRICK or TREAT\n\n\n\n5-7 pm
X-ALT-DESC;FMTTYPE=text/html:<strong><span style="font-size:18px\;">City of Hartford</span><br />\n<span style="font-size:20px\;">TRICK or TREAT</span></strong><br />\n<br />\n5-7 pm
LOCATION:
UID:e.898.3219
SEQUENCE:3
DTSTAMP:20260420T214425Z
URL:https://business.hartfordareachamber.org/events/details/trick-or-treat-hartford-10-26-2014-3219
END:VEVENT

END:VCALENDAR
