BEGIN:VCALENDAR
VERSION:2.0
PRODID:-//ChamberMaster//Event Calendar 2.0//EN
METHOD:PUBLISH
X-PUBLISHED-TTL:P3D
REFRESH-INTERVAL:P3D
CALSCALE:GREGORIAN
BEGIN:VEVENT
DTSTART:20161029T200000Z
DTEND:20161029T220000Z
X-MICROSOFT-CDO-ALLDAYEVENT:FALSE
SUMMARY:Trunk N' Treat Peace Lutheran Church
DESCRIPTION:Come join us for candy out of a trunk at Peace Lutheran School from 3:00pm to 5:00pm.
X-ALT-DESC;FMTTYPE=text/html:Come join us for candy out of a trunk at Peace Lutheran School from 3:00pm to 5:00pm.
LOCATION:1001 Center St Hartford WI 53027
UID:e.898.3776
SEQUENCE:3
DTSTAMP:20260421T191214Z
URL:https://business.hartfordareachamber.org/events/details/trunk-n-treat-peace-lutheran-church-3776
END:VEVENT

END:VCALENDAR
