BEGIN:VCALENDAR
VERSION:2.0
PRODID:-//ChamberMaster//Event Calendar 2.0//EN
METHOD:PUBLISH
X-PUBLISHED-TTL:P3D
REFRESH-INTERVAL:P3D
CALSCALE:GREGORIAN
BEGIN:VEVENT
DTSTART:20130105T140000Z
DTEND:20130105T150000Z
X-MICROSOFT-CDO-ALLDAYEVENT:FALSE
SUMMARY:U.S. Cellular Device Days
DESCRIPTION:So Now You Have a Cell Phone! \n\n	Can We Help You Do More Than Just Answer a Call???\n\n	Device Days will be held one\n\n	weekend of every month!\n\n	\n\n	The next U.S. Cellular Device Day is scheduled for:\n\n	\n\n	January 5th\, 2013\n\n	Time: 8:00am   9:00am\n\n	Where: Connect Cell in Jackson\n\n	HWY 45 & HWY 60\n\n	By BMO Harris & Culver's \n\n	\n\n	\n\n	During this time\, Connect Cell is closed for business\, but open to your questions. We can help you set up your voice mail\, show you how to send text messages\, help you learn to take pictures & view them. Do you know that you have a calculator? You can become an expert on storing phone numbers\, using the music player\, even using a wireless headset!
X-ALT-DESC;FMTTYPE=text/html:<p style="text-align: center\;">\n	<span style="font-family: arial\;"><span style="font-size: 22px\;">So Now You Have a Cell Phone! </span></span></p>\n<p style="text-align: center\;">\n	<span style="font-family: arial\;"><span style="font-size: 22px\;">Can We Help You Do More Than Just Answer a Call???</span></span></p>\n<p style="text-align: center\;">\n	<span style="font-family: arial\;"><span style="font-size: 20px\;">Device Days will be held&nbsp\;one<br />\n	weekend of every month!<br />\n	<br />\n	<u>The next U.S. Cellular Device Day is scheduled for:</u></span><br />\n	<br />\n	<span style="font-size: 20px\;"><span style="color: rgb(0\, 0\, 128)\;"><em><strong>January 5th\, 2013</strong></em></span><br />\n	Time: 8:00am &ndash\; 9:00am<br />\n	Where: <span style="color: rgb(0\, 0\, 128)\;"><em><strong>Connect Cell in Jackson</strong></em></span><br />\n	HWY 45 &amp\; HWY 60<br />\n	By&nbsp\;BMO Harris&nbsp\;&amp\; Culver&rsquo\;s </span><br />\n	<br />\n	<br />\n	<span style="font-size: 16px\;">During this time\, Connect Cell is closed for business\, but open to your questions. We can help you set up your voice mail\, show you how to send text messages\, help you learn to take pictures &amp\; view them. Do you know that you have a calculator? You can become an expert on storing phone numbers\, using the music player\, even using a wireless headset! </span></span></p>\n
LOCATION:Connect Cell - Jackson N168W22734 Prairie View Ln Jackson\, WI 53037
UID:e.898.1727
SEQUENCE:3
DTSTAMP:20260422T111723Z
URL:https://business.hartfordareachamber.org/events/details/u-s-cellular-device-days-01-05-2013-1727
END:VEVENT

END:VCALENDAR
