BEGIN:VCALENDAR
VERSION:2.0
PRODID:-//ChamberMaster//Event Calendar 2.0//EN
METHOD:PUBLISH
X-PUBLISHED-TTL:P3D
REFRESH-INTERVAL:P3D
CALSCALE:GREGORIAN
BEGIN:VEVENT
DTSTART;VALUE=DATE:20190727
DTEND;VALUE=DATE:20190728
TRANSP:TRANSPARENT
X-MICROSOFT-CDO-ALLDAYEVENT:TRUE
SUMMARY:Under the Influence of Adrenaline Race Series
DESCRIPTION:5K\, Run/Walk\, 1/4\, half and full marathon to help Elevate sustain its mission of reducing the risk of behavioral health issues and other high-risk behaviors in young people and adults.
X-ALT-DESC;FMTTYPE=text/html:5K\, Run/Walk\, 1/4\, half and full marathon to help Elevate sustain its mission of reducing the risk of behavioral health issues and other high-risk behaviors in young people and adults.
LOCATION:Eisenbahn Trial 705 Village Greenway West Bend\, WI 53090
UID:e.898.5777
SEQUENCE:3
DTSTAMP:20260419T135905Z
URL:https://business.hartfordareachamber.org/events/details/under-the-influence-of-adrenaline-race-series-5777
END:VEVENT

END:VCALENDAR
